BEGIN:VCALENDAR
VERSION:2.0
PRODID:-//The Just One Project - ECPv6.15.20//NONSGML v1.0//EN
CALSCALE:GREGORIAN
METHOD:PUBLISH
X-ORIGINAL-URL:https://thejustoneproject.org
X-WR-CALDESC:Events for The Just One Project
REFRESH-INTERVAL;VALUE=DURATION:PT1H
X-Robots-Tag:noindex
X-PUBLISHED-TTL:PT1H
BEGIN:VTIMEZONE
TZID:America/Los_Angeles
BEGIN:DAYLIGHT
TZOFFSETFROM:-0800
TZOFFSETTO:-0700
TZNAME:PDT
DTSTART:20240310T100000
END:DAYLIGHT
BEGIN:STANDARD
TZOFFSETFROM:-0700
TZOFFSETTO:-0800
TZNAME:PST
DTSTART:20241103T090000
END:STANDARD
BEGIN:DAYLIGHT
TZOFFSETFROM:-0800
TZOFFSETTO:-0700
TZNAME:PDT
DTSTART:20250309T100000
END:DAYLIGHT
BEGIN:STANDARD
TZOFFSETFROM:-0700
TZOFFSETTO:-0800
TZNAME:PST
DTSTART:20251102T090000
END:STANDARD
BEGIN:DAYLIGHT
TZOFFSETFROM:-0800
TZOFFSETTO:-0700
TZNAME:PDT
DTSTART:20260308T100000
END:DAYLIGHT
BEGIN:STANDARD
TZOFFSETFROM:-0700
TZOFFSETTO:-0800
TZNAME:PST
DTSTART:20261101T090000
END:STANDARD
END:VTIMEZONE
BEGIN:VEVENT
DTSTART;TZID=America/Los_Angeles:20251107T083000
DTEND;TZID=America/Los_Angeles:20251107T123000
DTSTAMP:20260419T084225
CREATED:20251102T171558Z
LAST-MODIFIED:20251119T193519Z
UID:10003551-1762504200-1762518600@thejustoneproject.org
SUMMARY:Emergency Food Distribution | The Just One Project
DESCRIPTION:Starting November 17th\, The Just One Project’s Emergency Food Drive-Thru will operate Monday through Friday from 8:30 AM to 12:30 PM at 1401 N. Decatur Blvd. \n✅ No appointment or qualifications necessary✅ Open to anyone in need of food✅ Fast\, respectful\, and drive-up accessible \nPlease note: our DHRC location will no longer distribute food on Mondays\, Wednesdays\, Fridays\, or Saturdays starting November 17th. \nThe Just One Project Drive-Thru Location \n1401 N. Decatur Blvd.\, Las Vegas\, NV 89108\nOpen: Monday–Friday\nTime: 8:30 AM–12:30 PM
URL:https://thejustoneproject.org/event/emergency-food-distribution-the-just-one-project/2025-11-07/
LOCATION:The Just One Project\, 1401 N Decatur Blvd\, Suite 32\, Las Vegas\, NV\, 89108
CATEGORIES:Food Programs
ATTACH;FMTTYPE=image/jpeg:https://thejustoneproject.org/wp-content/uploads/2025/11/TJOP-aerial.jpg
ORGANIZER;CN="The Just One Project":MAILTO:info@thejustoneproject.org
END:VEVENT
END:VCALENDAR